BEGIN:VCALENDAR
VERSION:2.0
PRODID:-//Denton Freedom House Ministries - ECPv6.15.20//NONSGML v1.0//EN
CALSCALE:GREGORIAN
METHOD:PUBLISH
X-ORIGINAL-URL:https://dentonfreedomhouse.org
X-WR-CALDESC:Events for Denton Freedom House Ministries
REFRESH-INTERVAL;VALUE=DURATION:PT1H
X-Robots-Tag:noindex
X-PUBLISHED-TTL:PT1H
BEGIN:VTIMEZONE
TZID:America/Chicago
BEGIN:DAYLIGHT
TZOFFSETFROM:-0600
TZOFFSETTO:-0500
TZNAME:CDT
DTSTART:20240310T080000
END:DAYLIGHT
BEGIN:STANDARD
TZOFFSETFROM:-0500
TZOFFSETTO:-0600
TZNAME:CST
DTSTART:20241103T070000
END:STANDARD
BEGIN:DAYLIGHT
TZOFFSETFROM:-0600
TZOFFSETTO:-0500
TZNAME:CDT
DTSTART:20250309T080000
END:DAYLIGHT
BEGIN:STANDARD
TZOFFSETFROM:-0500
TZOFFSETTO:-0600
TZNAME:CST
DTSTART:20251102T070000
END:STANDARD
BEGIN:DAYLIGHT
TZOFFSETFROM:-0600
TZOFFSETTO:-0500
TZNAME:CDT
DTSTART:20260308T080000
END:DAYLIGHT
BEGIN:STANDARD
TZOFFSETFROM:-0500
TZOFFSETTO:-0600
TZNAME:CST
DTSTART:20261101T070000
END:STANDARD
BEGIN:DAYLIGHT
TZOFFSETFROM:-0600
TZOFFSETTO:-0500
TZNAME:CDT
DTSTART:20270314T080000
END:DAYLIGHT
BEGIN:STANDARD
TZOFFSETFROM:-0500
TZOFFSETTO:-0600
TZNAME:CST
DTSTART:20271107T070000
END:STANDARD
END:VTIMEZONE
BEGIN:VEVENT
DTSTART;TZID=America/Chicago:20251202T080000
DTEND;TZID=America/Chicago:20251202T230000
DTSTAMP:20260423T070651
CREATED:20251121T192021Z
LAST-MODIFIED:20251125T175642Z
UID:4310-1764662400-1764716400@dentonfreedomhouse.org
SUMMARY:Giving Tuesday!
DESCRIPTION:For over 20 years\, Denton Freedom House has been a place of refuge and transformation for people seeking hope and a new beginning. This Giving Tuesday\, we’re raising funds to refresh our men’s home—a facility that has served countless lives over the years. This update will help sustain the home while we prepare for a complete rebuild in the next 5–7 years. Your generosity today will help us mend and strengthen this vital space for those who need it most. Will you join us in making a lasting impact? \n\n\n\nYour gift will go towards: \n\n\n\n     *A New Roof \n\n\n\n     *New Gutters \n\n\n\n     *New Siding \n\n\n\n     *Fresh paint \n\n\n\nOur goal is $40\,000\, and every dollar brings us closer to restoring this vital space.  We have partners who are helping\, which makes this huge project achievable now.  We don’t want to put this off any longer.  You can give today!
URL:https://dentonfreedomhouse.org/event/giving-tuesday/
ATTACH;FMTTYPE=image/png:https://dentonfreedomhouse.org/wp-content/uploads/2025/11/2026-giving-tuesday-email-image.png
END:VEVENT
BEGIN:VEVENT
DTSTART;TZID=America/Chicago:20251202T120000
DTEND;TZID=America/Chicago:20251202T130000
DTSTAMP:20260423T070651
CREATED:20251121T191252Z
LAST-MODIFIED:20251124T192350Z
UID:4308-1764676800-1764680400@dentonfreedomhouse.org
SUMMARY:December Monthly Luncheon
DESCRIPTION:Our Monthly Luncheon is a free lunch every first Tuesday of the month. This is an opportunity to hear how Denton Freedom House is providing a place for men and women to overcome their sin and addiction through the transforming power of Jesus Christ. We will worship\, give testimonies and give glory to God for what is happening through Denton Freedom House ministries. This is considered one of the best mid-week lunches you can get. Bring a friend!
URL:https://dentonfreedomhouse.org/event/december-monthly-luncheon/
LOCATION:Zera Coffee and Events\, 420 E McKinney St\, Denton\, Texas\, 76209\, United States
CATEGORIES:DFH Luncheon
ATTACH;FMTTYPE=image/png:https://dentonfreedomhouse.org/wp-content/uploads/2025/11/Image-34.png
END:VEVENT
BEGIN:VEVENT
DTSTART;TZID=America/Chicago:20251206T160000
DTEND;TZID=America/Chicago:20251206T180000
DTSTAMP:20260423T070651
CREATED:20251125T174236Z
LAST-MODIFIED:20251125T174237Z
UID:4315-1765036800-1765044000@dentonfreedomhouse.org
SUMMARY:Argyle Christmas Tree Lighting
DESCRIPTION:Hosted by the Well Church\, this event is encouraging people to bring canned goods that will benefit Freedom Food Pantry.  This gives everyone the opportunity to enjoy fun events as well as help those in need.
URL:https://dentonfreedomhouse.org/event/argyle-christmas-tree-lighting/
ATTACH;FMTTYPE=image/jpeg:https://dentonfreedomhouse.org/wp-content/uploads/2025/11/Image-2025-11-25T113635.244.jpg
END:VEVENT
BEGIN:VEVENT
DTSTART;TZID=America/Chicago:20251231T190000
DTEND;TZID=America/Chicago:20260101T000100
DTSTAMP:20260423T070651
CREATED:20251216T212717Z
LAST-MODIFIED:20251216T212723Z
UID:4350-1767207600-1767225660@dentonfreedomhouse.org
SUMMARY:Jesus Jam
DESCRIPTION:Looking for a family friendly way to ring in the New Year?  🎉✨ Celebrate New Year’s Eve at Zera Coffee and Events! ✨🎉Consider this your official invite!Join us on December 31st from 7pm to midnight 420 E McKinney St\, Denton TX for an unforgettable evening featuring:⭐ Food & snacks⭐ Games and activities⭐ Dancing with a live DJ⭐ Coffee\, community\, and good vibes⭐ A family-friendly countdown to 2026!Bring your friends\, your family\, your church group\, everyone’s invited!It’s the perfect spot to welcome the new year with joy\, laughter\, and a community that feels like home.🎟️ Admission:— $10 per person (ages 15+)— Kids & families welcome— More info coming soon 👀Come early\, grab a coffee\, and get comfy for a night to remember.We can’t wait to celebrate with you. Let’s walk into 2026 together!
URL:https://dentonfreedomhouse.org/event/jesus-jam-2/
ATTACH;FMTTYPE=image/png:https://dentonfreedomhouse.org/wp-content/uploads/2025/12/Blue-and-Grey-Aesthetic-Watercolor-NDecember-31stew-Years-Eve-Party-A4-Document.png
END:VEVENT
END:VCALENDAR