BEGIN:VCALENDAR
VERSION:2.0
PRODID:-//Denton Freedom House Ministries - ECPv6.15.20//NONSGML v1.0//EN
CALSCALE:GREGORIAN
METHOD:PUBLISH
X-WR-CALNAME:Denton Freedom House Ministries
X-ORIGINAL-URL:https://dentonfreedomhouse.org
X-WR-CALDESC:Events for Denton Freedom House Ministries
REFRESH-INTERVAL;VALUE=DURATION:PT1H
X-Robots-Tag:noindex
X-PUBLISHED-TTL:PT1H
BEGIN:VTIMEZONE
TZID:America/Chicago
BEGIN:DAYLIGHT
TZOFFSETFROM:-0600
TZOFFSETTO:-0500
TZNAME:CDT
DTSTART:20240310T080000
END:DAYLIGHT
BEGIN:STANDARD
TZOFFSETFROM:-0500
TZOFFSETTO:-0600
TZNAME:CST
DTSTART:20241103T070000
END:STANDARD
BEGIN:DAYLIGHT
TZOFFSETFROM:-0600
TZOFFSETTO:-0500
TZNAME:CDT
DTSTART:20250309T080000
END:DAYLIGHT
BEGIN:STANDARD
TZOFFSETFROM:-0500
TZOFFSETTO:-0600
TZNAME:CST
DTSTART:20251102T070000
END:STANDARD
BEGIN:DAYLIGHT
TZOFFSETFROM:-0600
TZOFFSETTO:-0500
TZNAME:CDT
DTSTART:20260308T080000
END:DAYLIGHT
BEGIN:STANDARD
TZOFFSETFROM:-0500
TZOFFSETTO:-0600
TZNAME:CST
DTSTART:20261101T070000
END:STANDARD
END:VTIMEZONE
BEGIN:VEVENT
DTSTART;TZID=America/Chicago:20251104T120000
DTEND;TZID=America/Chicago:20251104T130000
DTSTAMP:20260423T083412
CREATED:20251028T182417Z
LAST-MODIFIED:20251028T182419Z
UID:4271-1762257600-1762261200@dentonfreedomhouse.org
SUMMARY:November Monthly Luncheon
DESCRIPTION:Our Monthly Luncheon is a free lunch every first Tuesday of the month. This is an opportunity to hear how Denton Freedom House is providing a place for men and women to overcome their sin and addiction through the transforming power of Jesus Christ. We will worship\, give testimonies and give glory to God for what is happening through Denton Freedom House ministries. This is considered one of the best mid-week lunches you can get. Bring a friend!
URL:https://dentonfreedomhouse.org/event/november-monthly-luncheon/
LOCATION:Zera Coffee and Events\, 420 E McKinney St\, Denton\, Texas\, 76209\, United States
ATTACH;FMTTYPE=image/png:https://dentonfreedomhouse.org/wp-content/uploads/2025/10/Image-33.png
END:VEVENT
END:VCALENDAR