BEGIN:VCALENDAR
VERSION:2.0
PRODID:-//Denton Freedom House Ministries - ECPv6.15.20//NONSGML v1.0//EN
CALSCALE:GREGORIAN
METHOD:PUBLISH
X-ORIGINAL-URL:https://dentonfreedomhouse.org
X-WR-CALDESC:Events for Denton Freedom House Ministries
REFRESH-INTERVAL;VALUE=DURATION:PT1H
X-Robots-Tag:noindex
X-PUBLISHED-TTL:PT1H
BEGIN:VTIMEZONE
TZID:America/Chicago
BEGIN:DAYLIGHT
TZOFFSETFROM:-0600
TZOFFSETTO:-0500
TZNAME:CDT
DTSTART:20240310T080000
END:DAYLIGHT
BEGIN:STANDARD
TZOFFSETFROM:-0500
TZOFFSETTO:-0600
TZNAME:CST
DTSTART:20241103T070000
END:STANDARD
BEGIN:DAYLIGHT
TZOFFSETFROM:-0600
TZOFFSETTO:-0500
TZNAME:CDT
DTSTART:20250309T080000
END:DAYLIGHT
BEGIN:STANDARD
TZOFFSETFROM:-0500
TZOFFSETTO:-0600
TZNAME:CST
DTSTART:20251102T070000
END:STANDARD
BEGIN:DAYLIGHT
TZOFFSETFROM:-0600
TZOFFSETTO:-0500
TZNAME:CDT
DTSTART:20260308T080000
END:DAYLIGHT
BEGIN:STANDARD
TZOFFSETFROM:-0500
TZOFFSETTO:-0600
TZNAME:CST
DTSTART:20261101T070000
END:STANDARD
END:VTIMEZONE
BEGIN:VEVENT
DTSTART;TZID=America/Chicago:20251007T120000
DTEND;TZID=America/Chicago:20251007T130000
DTSTAMP:20260423T101140
CREATED:20250923T191613Z
LAST-MODIFIED:20250929T192406Z
UID:4255-1759838400-1759842000@dentonfreedomhouse.org
SUMMARY:Monthly Luncheon
DESCRIPTION:Our Monthly Luncheon is a free lunch every first Tuesday of the month.  This is an opportunity to hear how Denton Freedom House is providing a place for men and women to overcome their sin and addiction through the transforming power of Jesus Christ. We will worship\, give testimonies and give glory to God for what is happening through Denton Freedom House ministries. This is considered one of the best mid-week lunches you can get. Bring a friend!
URL:https://dentonfreedomhouse.org/event/monthly-luncheon-2/
LOCATION:Zera Coffee and Events\, 420 E McKinney St\, Denton\, Texas\, 76209\, United States
CATEGORIES:DFH Luncheon
ATTACH;FMTTYPE=image/jpeg:https://dentonfreedomhouse.org/wp-content/uploads/2025/09/Image-2025-09-29T142326.856.jpg
END:VEVENT
BEGIN:VEVENT
DTSTART;TZID=America/Chicago:20251031T190000
DTEND;TZID=America/Chicago:20251031T213000
DTSTAMP:20260423T101140
CREATED:20250923T191854Z
LAST-MODIFIED:20250923T191856Z
UID:4257-1761937200-1761946200@dentonfreedomhouse.org
SUMMARY:October Graduation
DESCRIPTION:We celebrate those graduating from the phase 1 part of our program. We worship the Lord who redeemed us and speak life into those graduating\, who will move on to the next phase of their lives. This is a free event\, and the public is welcome to come and witness a powerful event.
URL:https://dentonfreedomhouse.org/event/october-graduation/
LOCATION:Zera Coffee and Events\, 420 E McKinney St\, Denton\, Texas\, 76209\, United States
CATEGORIES:DFH Graduation
ATTACH;FMTTYPE=image/jpeg:https://dentonfreedomhouse.org/wp-content/uploads/2025/09/Image-2025-09-23T100004.338.jpg
END:VEVENT
END:VCALENDAR