BEGIN:VCALENDAR
VERSION:2.0
PRODID:-//Denton Freedom House Ministries - ECPv6.15.20//NONSGML v1.0//EN
CALSCALE:GREGORIAN
METHOD:PUBLISH
X-WR-CALNAME:Denton Freedom House Ministries
X-ORIGINAL-URL:https://dentonfreedomhouse.org
X-WR-CALDESC:Events for Denton Freedom House Ministries
REFRESH-INTERVAL;VALUE=DURATION:PT1H
X-Robots-Tag:noindex
X-PUBLISHED-TTL:PT1H
BEGIN:VTIMEZONE
TZID:America/Chicago
BEGIN:DAYLIGHT
TZOFFSETFROM:-0600
TZOFFSETTO:-0500
TZNAME:CDT
DTSTART:20240310T080000
END:DAYLIGHT
BEGIN:STANDARD
TZOFFSETFROM:-0500
TZOFFSETTO:-0600
TZNAME:CST
DTSTART:20241103T070000
END:STANDARD
BEGIN:DAYLIGHT
TZOFFSETFROM:-0600
TZOFFSETTO:-0500
TZNAME:CDT
DTSTART:20250309T080000
END:DAYLIGHT
BEGIN:STANDARD
TZOFFSETFROM:-0500
TZOFFSETTO:-0600
TZNAME:CST
DTSTART:20251102T070000
END:STANDARD
BEGIN:DAYLIGHT
TZOFFSETFROM:-0600
TZOFFSETTO:-0500
TZNAME:CDT
DTSTART:20260308T080000
END:DAYLIGHT
BEGIN:STANDARD
TZOFFSETFROM:-0500
TZOFFSETTO:-0600
TZNAME:CST
DTSTART:20261101T070000
END:STANDARD
END:VTIMEZONE
BEGIN:VEVENT
DTSTART;TZID=America/Chicago:20250725T190000
DTEND;TZID=America/Chicago:20250725T213000
DTSTAMP:20260423T085006
CREATED:20250630T183933Z
LAST-MODIFIED:20250630T183935Z
UID:4125-1753470000-1753479000@dentonfreedomhouse.org
SUMMARY:July Graduation
DESCRIPTION:We celebrate those graduating from our phase 1 part of our program. We worship the Lord who redeemed us and speak life into those graduating\, who will move on to the next phase of their lives. This is a free event\, and the public is welcome to come and witness a powerful event.
URL:https://dentonfreedomhouse.org/event/july-graduation/
LOCATION:Zera Coffee and Events\, 420 E McKinney St\, Denton\, Texas\, 76209\, United States
CATEGORIES:DFH Graduation
ATTACH;FMTTYPE=image/png:https://dentonfreedomhouse.org/wp-content/uploads/2025/06/Image-30.png
END:VEVENT
BEGIN:VEVENT
DTSTART;TZID=America/Chicago:20250718T193000
DTEND;TZID=America/Chicago:20250718T203000
DTSTAMP:20260423T085006
CREATED:20250512T202615Z
LAST-MODIFIED:20250512T202658Z
UID:4093-1752867000-1752870600@dentonfreedomhouse.org
SUMMARY:Comedy Night
DESCRIPTION:Looking for a night of side-splitting fun the whole family can enjoy? Zera Coffee and Events presents a hilarious comedy show benefitting the Denton Freedom House! Five fantastic comedians will make you laugh as you sip on wonderful coffee drinks from Zera Coffee.  Featuring notable comedians Linda Stogner and Isaac Witty.
URL:https://dentonfreedomhouse.org/event/comedy-night/
LOCATION:Zera Coffee and Events\, 420 E McKinney St\, Denton\, Texas\, 76209\, United States
ATTACH;FMTTYPE=image/png:https://dentonfreedomhouse.org/wp-content/uploads/2025/05/INSTAIMAGE-2025-Comedy-show.png
END:VEVENT
BEGIN:VEVENT
DTSTART;TZID=America/Chicago:20250701T120000
DTEND;TZID=America/Chicago:20250701T130000
DTSTAMP:20260423T085006
CREATED:20250624T183736Z
LAST-MODIFIED:20250624T184100Z
UID:4120-1751371200-1751374800@dentonfreedomhouse.org
SUMMARY:July Monthly Luncheon
DESCRIPTION:First Tuesday Luncheon is a free lunch to hear how Denton Freedom House is providing a place for men and women to overcome their sin and addiction through the transforming power of Jesus Christ. We will worship\, give testimonies and give glory to God for what is happening through Denton Freedom House ministries. This is considered one of the best mid-week lunches you can get. Bring a friend!
URL:https://dentonfreedomhouse.org/event/july-monthly-luncheon/
LOCATION:Zera Coffee and Events\, 420 E McKinney St\, Denton\, Texas\, 76209\, United States
CATEGORIES:DFH Luncheon
ATTACH;FMTTYPE=image/jpeg:https://dentonfreedomhouse.org/wp-content/uploads/2025/06/Image-69.jpg
END:VEVENT
BEGIN:VEVENT
DTSTART;TZID=America/Chicago:20250617T080000
DTEND;TZID=America/Chicago:20250720T170000
DTSTAMP:20260423T085006
CREATED:20250617T210425Z
LAST-MODIFIED:20250617T210607Z
UID:4115-1750147200-1753030800@dentonfreedomhouse.org
SUMMARY:Vote for Denton Freedom House in the Best of Denton Awards!
DESCRIPTION:It’s that time of year again to support your favorites in the Best of Denton Awards\, and Denton Freedom House has been nominated in multiple categories! We’d be honored to have your vote for the following: \n\n\n\n\nBest Event Vendor: Zera Events\n\n\n\nBest Coffee Shop: Zera Coffee and Events\n\n\n\nBest Nonprofit: Denton Freedom House\n\n\n\nBest Smoothies and Juice: Zera Coffee and Events\n\n\n\n\n \n\n\n\nVoting is open now\, but make sure to cast your ballot before July 20th!
URL:https://dentonfreedomhouse.org/event/vote-for-denton-freedom-house-in-the-best-of-denton-awards/
ATTACH;FMTTYPE=image/jpeg:https://dentonfreedomhouse.org/wp-content/uploads/2025/06/Image-68.jpg
END:VEVENT
BEGIN:VEVENT
DTSTART;TZID=America/Chicago:20250603T120000
DTEND;TZID=America/Chicago:20250603T130000
DTSTAMP:20260423T085006
CREATED:20250602T204342Z
LAST-MODIFIED:20250602T204345Z
UID:4105-1748952000-1748955600@dentonfreedomhouse.org
SUMMARY:June Monthly Luncheon
DESCRIPTION:First Tuesday Luncheon is a free lunch to hear how Denton Freedom House is providing a place for men and women to overcome their sin and addiction through the transforming power of Jesus Christ. We will worship\, give testimonies and give glory to God for what is happening through Denton Freedom House ministries. This is considered one of the best mid-week lunches you can get. Bring a friend!
URL:https://dentonfreedomhouse.org/event/june-monthly-luncheon/
LOCATION:Zera Coffee and Events\, 420 E McKinney St\, Denton\, Texas\, 76209\, United States
CATEGORIES:DFH Luncheon
ATTACH;FMTTYPE=image/png:https://dentonfreedomhouse.org/wp-content/uploads/2025/06/Image-29.png
END:VEVENT
BEGIN:VEVENT
DTSTART;TZID=America/Chicago:20250516T070000
DTEND;TZID=America/Chicago:20250516T140000
DTSTAMP:20260423T085006
CREATED:20250228T215012Z
LAST-MODIFIED:20250228T215306Z
UID:4013-1747378800-1747404000@dentonfreedomhouse.org
SUMMARY:7th Annual Charity Golf Tournament
DESCRIPTION:Fun\, beautiful golf course\, testimonies\, food!  Don’t miss out on this event that helps the Denton Freedom House continue our mission to liberate the broken…
URL:https://dentonfreedomhouse.org/event/7th-annual-charity-golf-tournament/
LOCATION:Wildhorse Golf Club of Robson Ranch\, 9400 Ed Robson Blvd A\, Denton\, TX\, 76207\, United States
ATTACH;FMTTYPE=image/png:https://dentonfreedomhouse.org/wp-content/uploads/2025/02/DFH-Golf-Flier-2024-pg1-png.png
END:VEVENT
BEGIN:VEVENT
DTSTART;TZID=America/Chicago:20250513T110000
DTEND;TZID=America/Chicago:20250513T200000
DTSTAMP:20260423T085006
CREATED:20250512T201438Z
LAST-MODIFIED:20250512T201439Z
UID:4088-1747134000-1747166400@dentonfreedomhouse.org
SUMMARY:County Road Burger Fundraiser
DESCRIPTION:Indulge in your favorite County Road Burger (formerly Denton Co Hamburger) food on May 13th from 11:00 AM to 8:00 PM and directly support Denton Freedom House! \n\n\n\nEvery order placed during this time will contribute to this worthy cause. \n\n\n\nIn-Person & Drive-Thru: Simply mention it is for Denton Freedom House when placing your order.
URL:https://dentonfreedomhouse.org/event/county-road-burger-fundraiser/
LOCATION:County Road Burger Company\, 507 W University Dr\, Denton\, Texas\, United States
ATTACH;FMTTYPE=image/png:https://dentonfreedomhouse.org/wp-content/uploads/2025/05/Image-28.png
END:VEVENT
BEGIN:VEVENT
DTSTART;TZID=America/Chicago:20250506T120000
DTEND;TZID=America/Chicago:20250506T130000
DTSTAMP:20260423T085006
CREATED:20250428T211211Z
LAST-MODIFIED:20250429T213227Z
UID:4075-1746532800-1746536400@dentonfreedomhouse.org
SUMMARY:Monthly Luncheon
DESCRIPTION:First Tuesday Luncheon is a free lunch to hear how Denton Freedom House is providing a place for men and women to overcome their sin and addiction through the transforming power of Jesus Christ. We will worship\, give testimonies and give glory to God for what is happening through Denton Freedom House ministries. This is considered one of the best mid-week lunches you can get. Bring a friend!
URL:https://dentonfreedomhouse.org/event/first-tuesday-luncheon-5/
LOCATION:Zera Coffee and Events\, 420 E McKinney St\, Denton\, Texas\, 76209\, United States
CATEGORIES:DFH Luncheon
ATTACH;FMTTYPE=image/jpeg:https://dentonfreedomhouse.org/wp-content/uploads/2025/04/Image-67.jpg
END:VEVENT
BEGIN:VEVENT
DTSTART;TZID=America/Chicago:20250503T190000
DTEND;TZID=America/Chicago:20250503T203000
DTSTAMP:20260423T085006
CREATED:20250228T232846Z
LAST-MODIFIED:20250410T135743Z
UID:4016-1746298800-1746304200@dentonfreedomhouse.org
SUMMARY:Shirah Brothers Concert
DESCRIPTION:The Shirah Brothers\, a Christian music group based out of Nashville\, TN\, is bringing tight harmony and high energy to venues all over America. Performing at venues such as The Ark Encounter in KY\, Singing in the Sun at Myrtle Beach\, SC\, Dollywood\, and having the honor of being the first Southern Gospel group to perform at Elvis Presley’s Graceland!With a sound rooted in faith and family\, The Shirah Brothers are passionate about spreading the message of hope and salvation through powerful vocals and heartfelt lyrics. Their performances leave all audiences inspired and uplifted.Don’t miss your chance to experience this dynamic group live May 3rd at Zera Coffee and Events at 7:00pm.  Tickets can be purchased in advance with the button below or at the door.
URL:https://dentonfreedomhouse.org/event/shirah-brothers-concert/
LOCATION:Zera Coffee and Events\, 420 E McKinney St\, Denton\, Texas\, 76209\, United States
ATTACH;FMTTYPE=image/png:https://dentonfreedomhouse.org/wp-content/uploads/2025/02/Denton-Freedom-House-FB_ShirahBros.png
END:VEVENT
BEGIN:VEVENT
DTSTART;TZID=America/Chicago:20250425T190000
DTEND;TZID=America/Chicago:20250425T213000
DTSTAMP:20260423T085006
CREATED:20250210T183515Z
LAST-MODIFIED:20250210T183517Z
UID:3959-1745607600-1745616600@dentonfreedomhouse.org
SUMMARY:April Graduation
DESCRIPTION:We celebrate those graduating from our phase 1 part of our program. We worship the Lord who redeemed us and speak life into those graduating\, who will move on to the next phase of their lives. This is a free event\, and the public is welcome to come and witness a powerful event.
URL:https://dentonfreedomhouse.org/event/april-graduation/
LOCATION:Zera Coffee and Events\, 420 E McKinney St\, Denton\, Texas\, 76209\, United States
CATEGORIES:DFH Graduation
ATTACH;FMTTYPE=image/png:https://dentonfreedomhouse.org/wp-content/uploads/2025/02/Image-25.png
END:VEVENT
END:VCALENDAR