BEGIN:VCALENDAR
VERSION:2.0
PRODID:-//Denton Freedom House Ministries - ECPv6.15.20//NONSGML v1.0//EN
CALSCALE:GREGORIAN
METHOD:PUBLISH
X-WR-CALNAME:Denton Freedom House Ministries
X-ORIGINAL-URL:https://dentonfreedomhouse.org
X-WR-CALDESC:Events for Denton Freedom House Ministries
REFRESH-INTERVAL;VALUE=DURATION:PT1H
X-Robots-Tag:noindex
X-PUBLISHED-TTL:PT1H
BEGIN:VTIMEZONE
TZID:America/Chicago
BEGIN:DAYLIGHT
TZOFFSETFROM:-0600
TZOFFSETTO:-0500
TZNAME:CDT
DTSTART:20250309T080000
END:DAYLIGHT
BEGIN:STANDARD
TZOFFSETFROM:-0500
TZOFFSETTO:-0600
TZNAME:CST
DTSTART:20251102T070000
END:STANDARD
BEGIN:DAYLIGHT
TZOFFSETFROM:-0600
TZOFFSETTO:-0500
TZNAME:CDT
DTSTART:20260308T080000
END:DAYLIGHT
BEGIN:STANDARD
TZOFFSETFROM:-0500
TZOFFSETTO:-0600
TZNAME:CST
DTSTART:20261101T070000
END:STANDARD
BEGIN:DAYLIGHT
TZOFFSETFROM:-0600
TZOFFSETTO:-0500
TZNAME:CDT
DTSTART:20270314T080000
END:DAYLIGHT
BEGIN:STANDARD
TZOFFSETFROM:-0500
TZOFFSETTO:-0600
TZNAME:CST
DTSTART:20271107T070000
END:STANDARD
END:VTIMEZONE
BEGIN:VEVENT
DTSTART;TZID=America/Chicago:20260306T190000
DTEND;TZID=America/Chicago:20260306T210000
DTSTAMP:20260421T092444
CREATED:20251201T174207Z
LAST-MODIFIED:20260305T180609Z
UID:4328-1772823600-1772830800@dentonfreedomhouse.org
SUMMARY:12th Annual Gala
DESCRIPTION:REGISTRATION FOR THIS EVENT HAS NOW CLOSED. \n\n\n\nThis year\, we celebrate the theme “Where Fresh Starts Take Root”\, inspired by Psalm 1:3:“They are like a tree planted by streams of water\, which yields its fruit in season and whose leaf does not wither—whatever they do prospers.” \n\n\n\nAt Denton Freedom House\, we believe that every life—no matter how broken—can flourish when rooted in Christ. Through our discipleship programs and Freedom Food Pantry\, we serve thousands of men\, women\, and families each year\, always at no cost\, because no one should be turned away for lack of money. \n\n\n\nYour participation in this gala makes a difference. This is our largest fundraising event of the year\, and your support helps us continue and grow the ministry that brings hope and restoration to those struggling with addiction and homelessness. \n\n\n\nWhat to Expect: \n\n\n\n\nA full meal\n\n\n\nWorship and powerful testimonies\n\n\n\nA financial update from our CFO\n\n\n\nOpportunities to partner with us in transforming lives\n\n\n\n\nTogether\, let’s plant seeds of hope that will bear eternal fruit. Thank you for joining us in this mission! \n\n\n\nIndividual Tickets: $85 \n\n\n\nIf you are interested in hosting a table\, please contact Chad Eskew at chad@dentonfreedomhouse.org or 940-231-5908
URL:https://dentonfreedomhouse.org/event/12th-annual-gala/
ATTACH;FMTTYPE=image/png:https://dentonfreedomhouse.org/wp-content/uploads/2025/12/Fundeasy-Gala-Flyer.png
END:VEVENT
BEGIN:VEVENT
DTSTART;TZID=America/Chicago:20260407T120000
DTEND;TZID=America/Chicago:20260407T130000
DTSTAMP:20260421T092444
CREATED:20260324T200650Z
LAST-MODIFIED:20260324T200653Z
UID:4457-1775563200-1775566800@dentonfreedomhouse.org
SUMMARY:April Luncheon
DESCRIPTION:Our monthly luncheon is free to the public and allows us to share the testimonies of those being transformed through the power of the Gospel of Jesus Christ. If you know someone who needs help\, come learn more about the Denton Freedom House.
URL:https://dentonfreedomhouse.org/event/april-luncheon-2/
LOCATION:Zera Coffee and Events\, 420 E McKinney St\, Denton\, Texas\, 76209\, United States
ATTACH;FMTTYPE=image/jpeg:https://dentonfreedomhouse.org/wp-content/uploads/2026/03/Image-2026-03-24T150430.945.jpg
END:VEVENT
BEGIN:VEVENT
DTSTART;TZID=America/Chicago:20260407T190000
DTEND;TZID=America/Chicago:20260407T203000
DTSTAMP:20260421T092444
CREATED:20260401T212211Z
LAST-MODIFIED:20260401T212216Z
UID:4468-1775588400-1775593800@dentonfreedomhouse.org
SUMMARY:90's Trivia Night
DESCRIPTION:Think you know the 90’s? Prove it at our 90’s Trivia Night! Grab your friends\, relive the music and moments of the decade\, and enjoy a night of trivia\, laughter\, and community—all in support of Denton Freedom House.
URL:https://dentonfreedomhouse.org/event/90s-trivia-night/
LOCATION:Zera Coffee and Events\, 420 E McKinney St\, Denton\, Texas\, 76209\, United States
CATEGORIES:Free Community Event
ATTACH;FMTTYPE=image/png:https://dentonfreedomhouse.org/wp-content/uploads/2026/04/yellow-pink-90s-style-back-to-90s-instagram-post-1.png
END:VEVENT
BEGIN:VEVENT
DTSTART;TZID=America/Chicago:20260424T190000
DTEND;TZID=America/Chicago:20260424T213000
DTSTAMP:20260421T092444
CREATED:20260324T213811Z
LAST-MODIFIED:20260420T233708Z
UID:4460-1777057200-1777066200@dentonfreedomhouse.org
SUMMARY:April Graduation
DESCRIPTION:We celebrate those graduating from the phase 1 part of our program. We worship the Lord who redeemed us and speak life into those graduating\, who will move on to the next phase of their lives. This is a free event\, and the public is welcome to come and witness a powerful event.
URL:https://dentonfreedomhouse.org/event/april-graduation-2/
LOCATION:Zera Coffee and Events\, 420 E McKinney St\, Denton\, Texas\, 76209\, United States
CATEGORIES:DFH Graduation
ATTACH;FMTTYPE=image/jpeg:https://dentonfreedomhouse.org/wp-content/uploads/2026/03/Image-3.jpg
END:VEVENT
BEGIN:VEVENT
DTSTART;TZID=America/Chicago:20260505T120000
DTEND;TZID=America/Chicago:20260505T130000
DTSTAMP:20260421T092444
CREATED:20260420T215808Z
LAST-MODIFIED:20260420T233843Z
UID:4479-1777982400-1777986000@dentonfreedomhouse.org
SUMMARY:May Monthly Luncheon– Community Fellowship & Testimonies
DESCRIPTION:Join us for the Denton Freedom House Monthly Luncheon—a time of fellowship\, shared testimony\, and community impact. Enjoy a delicious\, free meal while hearing stories of transformation and learning how Denton Freedom House is restoring lives in our North Texas community.  Add this event to your monthly calendar!
URL:https://dentonfreedomhouse.org/event/may-monthly-luncheon-community-fellowship-testimonies/
LOCATION:Zera Coffee and Events\, 420 E McKinney St\, Denton\, Texas\, 76209\, United States
CATEGORIES:DFH Luncheon
ATTACH;FMTTYPE=image/jpeg:https://dentonfreedomhouse.org/wp-content/uploads/2026/04/Image-2.jpg
END:VEVENT
BEGIN:VEVENT
DTSTART;TZID=America/Chicago:20260515T070000
DTEND;TZID=America/Chicago:20260515T140000
DTSTAMP:20260421T092444
CREATED:20260324T215105Z
LAST-MODIFIED:20260324T215311Z
UID:4462-1778828400-1778853600@dentonfreedomhouse.org
SUMMARY:Charity Golf Tournament
DESCRIPTION:Fun\, beautiful golf course\, testimonies\, food! Don’t miss out on this event that helps the Denton Freedom House continue our mission to liberate the broken.
URL:https://dentonfreedomhouse.org/event/charity-golf-tournament/
LOCATION:Wildhorse Golf Club of Robson Ranch\, 9400 Ed Robson Blvd A\, Denton\, TX\, 76207\, United States
CATEGORIES:Golf Tournament
ATTACH;FMTTYPE=image/png:https://dentonfreedomhouse.org/wp-content/uploads/2026/03/Front-8th-Annual-DFH-Golf-Napkin-Flyer-2-1.png
END:VEVENT
END:VCALENDAR